BEGIN:VCALENDAR
VERSION:2.0
PRODID:-//Arlington Beach Camp - ECPv6.1.3//NONSGML v1.0//EN
CALSCALE:GREGORIAN
METHOD:PUBLISH
X-WR-CALNAME:Arlington Beach Camp
X-ORIGINAL-URL:https://arlingtonbeachcamp.com
X-WR-CALDESC:Events for Arlington Beach Camp
REFRESH-INTERVAL;VALUE=DURATION:PT1H
X-Robots-Tag:noindex
X-PUBLISHED-TTL:PT1H
BEGIN:VTIMEZONE
TZID:America/Regina
BEGIN:STANDARD
TZOFFSETFROM:-0600
TZOFFSETTO:-0600
TZNAME:CST
DTSTART:20260101T000000
END:STANDARD
END:VTIMEZONE
BEGIN:VEVENT
DTSTART;VALUE=DATE:20260712
DTEND;VALUE=DATE:20260720
DTSTAMP:20260424T001433
CREATED:20251118T165043Z
LAST-MODIFIED:20260415T171502Z
UID:2386-1783814400-1784505599@arlingtonbeachcamp.com
SUMMARY:Family Camp
DESCRIPTION:Save the date!! Family Camp 2026 will take place July 12-19\, 2026. \nKeep an eye out in early 2026 for announcements regarding themes and speakers. \nRegister Now
URL:https://arlingtonbeachcamp.com/event/family-camp-2026/
CATEGORIES:Camp Programs
END:VEVENT
BEGIN:VEVENT
DTSTART;TZID=America/Regina:20260719T160000
DTEND;TZID=America/Regina:20260724T160000
DTSTAMP:20260424T001433
CREATED:20250821T222143Z
LAST-MODIFIED:20260415T171521Z
UID:2299-1784476800-1784908800@arlingtonbeachcamp.com
SUMMARY:Overnight Camp
DESCRIPTION:Come join us for our 2026 overnight camp\, Grades 3 – 9. \nJuly 19 – 24\, 2026. \nRegister Now \nPlease watch our social media and email mailing list for updates related to camp programs.
URL:https://arlingtonbeachcamp.com/event/overnight-camp-2026/
CATEGORIES:Camp Programs
END:VEVENT
BEGIN:VEVENT
DTSTART;VALUE=DATE:20260729
DTEND;VALUE=DATE:20260802
DTSTAMP:20260424T001433
CREATED:20260122T213306Z
LAST-MODIFIED:20260415T172932Z
UID:2418-1785283200-1785628799@arlingtonbeachcamp.com
SUMMARY:Sr. Teen Retreat
DESCRIPTION:More Details coming soon! \nRegister Now!
URL:https://arlingtonbeachcamp.com/event/sr-teen-retreat/
CATEGORIES:Camp Programs
END:VEVENT
END:VCALENDAR